BEGIN:VCALENDAR
VERSION:2.0
PRODID:-//Prince George&#039;s County Historical Society - ECPv5.12.4//NONSGML v1.0//EN
CALSCALE:GREGORIAN
METHOD:PUBLISH
X-WR-CALNAME:Prince George&#039;s County Historical Society
X-ORIGINAL-URL:https://pghistory.org
X-WR-CALDESC:Events for Prince George&#039;s County Historical Society
BEGIN:VTIMEZONE
TZID:America/New_York
BEGIN:DAYLIGHT
TZOFFSETFROM:-0500
TZOFFSETTO:-0400
TZNAME:EDT
DTSTART:20150308T070000
END:DAYLIGHT
BEGIN:STANDARD
TZOFFSETFROM:-0400
TZOFFSETTO:-0500
TZNAME:EST
DTSTART:20151101T060000
END:STANDARD
END:VTIMEZONE
BEGIN:VEVENT
DTSTART;TZID=America/New_York:20150426T143000
DTEND;TZID=America/New_York:20150426T163000
DTSTAMP:20260422T075629
CREATED:20150428T092238Z
LAST-MODIFIED:20150428T092238Z
UID:11669-1430058600-1430065800@pghistory.org
SUMMARY:Katherine Anne Porter\, Her Library\, and Her Work
DESCRIPTION:http://pghistory.org/main/wp-content/uploads/2015/04/Katherine-Anne-Porter-April-26-.pdf
URL:https://pghistory.org/calendar/katherine-anne-porter-her-library-and-her-work/
LOCATION:Hornbake Library\, University of Maryland\, University of Maryland\, Campus Drive\, College Park\, MD\, 20740\, United States
END:VEVENT
END:VCALENDAR