BEGIN:VCALENDAR
VERSION:2.0
PRODID:-//Prince George&#039;s County Historical Society - ECPv5.12.4//NONSGML v1.0//EN
CALSCALE:GREGORIAN
METHOD:PUBLISH
X-WR-CALNAME:Prince George&#039;s County Historical Society
X-ORIGINAL-URL:https://pghistory.org
X-WR-CALDESC:Events for Prince George&#039;s County Historical Society
BEGIN:VTIMEZONE
TZID:America/New_York
BEGIN:DAYLIGHT
TZOFFSETFROM:-0500
TZOFFSETTO:-0400
TZNAME:EDT
DTSTART:20150308T070000
END:DAYLIGHT
BEGIN:STANDARD
TZOFFSETFROM:-0400
TZOFFSETTO:-0500
TZNAME:EST
DTSTART:20151101T060000
END:STANDARD
END:VTIMEZONE
BEGIN:VEVENT
DTSTART;TZID=America/New_York:20150512T063000
DTEND;TZID=America/New_York:20150512T200000
DTSTAMP:20260422T064102
CREATED:20150430T030031Z
LAST-MODIFIED:20150430T030031Z
UID:11681-1431412200-1431460800@pghistory.org
SUMMARY:PGCHS Board Meeting
DESCRIPTION:Society members welcomed
URL:https://pghistory.org/calendar/pgchs-board-meeting/
LOCATION:Oxon Hill Public Library\, 6200 Oxon Hill Road\, Oxon Hill\, MD\, 20745
END:VEVENT
END:VCALENDAR