BEGIN:VCALENDAR
VERSION:2.0
PRODID:-//Prince George&#039;s County Historical Society - ECPv5.12.4//NONSGML v1.0//EN
CALSCALE:GREGORIAN
METHOD:PUBLISH
X-WR-CALNAME:Prince George&#039;s County Historical Society
X-ORIGINAL-URL:https://pghistory.org
X-WR-CALDESC:Events for Prince George&#039;s County Historical Society
BEGIN:VTIMEZONE
TZID:America/New_York
BEGIN:DAYLIGHT
TZOFFSETFROM:-0500
TZOFFSETTO:-0400
TZNAME:EDT
DTSTART:20150308T070000
END:DAYLIGHT
BEGIN:STANDARD
TZOFFSETFROM:-0400
TZOFFSETTO:-0500
TZNAME:EST
DTSTART:20151101T060000
END:STANDARD
END:VTIMEZONE
BEGIN:VEVENT
DTSTART;TZID=America/New_York:20150520T180000
DTEND;TZID=America/New_York:20150520T200000
DTSTAMP:20260422T045451
CREATED:20150502T005508Z
LAST-MODIFIED:20150502T005508Z
UID:11683-1432144800-1432152000@pghistory.org
SUMMARY:2015 Annual Pri. Geo.'s County Historic Preservation Reception
DESCRIPTION:Space is limited – Please RSVP by May 14th:  Riversdale@PGParks.com \n  \nThe College Park Airport\, listed on the National Register of Historic Places\, also features a 1919 airmail hangar and Compass Rose on the grounds. The airport runway is just outside the glass windows of the museum – be sure to watch for a take-off or landing as today’s pilots take to the sky! \nThe Aviation Museum is located in College Park\, Maryland near the University of Maryland\, between Route 1 & Kenilworth Avenue (Route 201). Accessible from the Green Line\, College Park/University of Maryland Metro Station.
URL:https://pghistory.org/calendar/2015-annual-pri-geo-s-county-historic-preservation-reception/
LOCATION:College Park Aviation Museum\, 1985 Corporal Frank Scott Drive\, College Park\, MD\, 20740
END:VEVENT
END:VCALENDAR