BEGIN:VCALENDAR
VERSION:2.0
PRODID:-//Prince George&#039;s County Historical Society - ECPv5.12.4//NONSGML v1.0//EN
CALSCALE:GREGORIAN
METHOD:PUBLISH
X-WR-CALNAME:Prince George&#039;s County Historical Society
X-ORIGINAL-URL:https://pghistory.org
X-WR-CALDESC:Events for Prince George&#039;s County Historical Society
BEGIN:VTIMEZONE
TZID:America/New_York
BEGIN:DAYLIGHT
TZOFFSETFROM:-0500
TZOFFSETTO:-0400
TZNAME:EDT
DTSTART:20150308T070000
END:DAYLIGHT
BEGIN:STANDARD
TZOFFSETFROM:-0400
TZOFFSETTO:-0500
TZNAME:EST
DTSTART:20151101T060000
END:STANDARD
END:VTIMEZONE
BEGIN:VEVENT
DTSTART;TZID=America/New_York:20150616T182500
DTEND;TZID=America/New_York:20150616T182500
DTSTAMP:20260420T041634
CREATED:20150614T034454Z
LAST-MODIFIED:20150616T004239Z
UID:11760-1434479100-1434479100@pghistory.org
SUMMARY:Prince George's County Historic Preservation Commission Meeting
DESCRIPTION:PRINCE GEORGE’S COUNTY HISTORIC PRESERVATION COMMISSION \nCounty Administration Building • 14741 Governor Oden Bowie Drive\, 4 th Floor\, Upper Marlboro\, Maryland 20772 \npgplanning.org/HPC.htm • \n301-952-3680 Public Meeting Tuesday\, June 16\, 2015 6:30 p.m. • 4th Floor Board Room A. \nCALL TO ORDER—John Peter Thompson\, Chair \nB. APPROVAL OF MEETING SUMMARY—May 19\, 2015 \nC. HISTORIC AREA WORK PERMIT APPLICATION HAWP 2015-17 Gwynn Park (85A-013) 8118 Grayden Lane Brandywine MD 20613 \nD. PROPERTIES OF CONCERN \nE. COMMISSION STAFF ITEMS \n1. Staff Sign-Offs \n2. Referrals Report \n3. Correspondence Report \n4. Other/New Business \nNext HPC Meeting: Tuesday\, July 21\, 2015
URL:https://pghistory.org/calendar/prince-georges-county-historic-preservation-commission/
END:VEVENT
END:VCALENDAR