BEGIN:VCALENDAR
VERSION:2.0
PRODID:-//Prince George&#039;s County Historical Society - ECPv5.12.4//NONSGML v1.0//EN
CALSCALE:GREGORIAN
METHOD:PUBLISH
X-WR-CALNAME:Prince George&#039;s County Historical Society
X-ORIGINAL-URL:https://pghistory.org
X-WR-CALDESC:Events for Prince George&#039;s County Historical Society
BEGIN:VTIMEZONE
TZID:America/New_York
BEGIN:DAYLIGHT
TZOFFSETFROM:-0500
TZOFFSETTO:-0400
TZNAME:EDT
DTSTART:20150308T070000
END:DAYLIGHT
BEGIN:STANDARD
TZOFFSETFROM:-0400
TZOFFSETTO:-0500
TZNAME:EST
DTSTART:20151101T060000
END:STANDARD
END:VTIMEZONE
BEGIN:VEVENT
DTSTART;TZID=America/New_York:20150811T183000
DTEND;TZID=America/New_York:20150811T193000
DTSTAMP:20260420T011047
CREATED:20150801T194149Z
LAST-MODIFIED:20150801T194149Z
UID:11794-1439317800-1439321400@pghistory.org
SUMMARY:PGCHS August Board Meeting\, Tuesday August 11th 2015 at Marietta
DESCRIPTION:All Society members are welcomed to attend.
URL:https://pghistory.org/calendar/pgchs-august-board-meeting-tuesday-august-11th-2015-at-marietta/
LOCATION:Marietta House & Museum\, 5626 Bell Station Road\, Glenn Dale\, MD\, 20769
END:VEVENT
END:VCALENDAR