BEGIN:VCALENDAR
VERSION:2.0
PRODID:-//Prince George&#039;s County Historical Society - ECPv5.12.4//NONSGML v1.0//EN
CALSCALE:GREGORIAN
METHOD:PUBLISH
X-WR-CALNAME:Prince George&#039;s County Historical Society
X-ORIGINAL-URL:https://pghistory.org
X-WR-CALDESC:Events for Prince George&#039;s County Historical Society
BEGIN:VTIMEZONE
TZID:America/New_York
BEGIN:DAYLIGHT
TZOFFSETFROM:-0500
TZOFFSETTO:-0400
TZNAME:EDT
DTSTART:20150308T070000
END:DAYLIGHT
BEGIN:STANDARD
TZOFFSETFROM:-0400
TZOFFSETTO:-0500
TZNAME:EST
DTSTART:20151101T060000
END:STANDARD
END:VTIMEZONE
BEGIN:VEVENT
DTSTART;TZID=America/New_York:20150830T140000
DTEND;TZID=America/New_York:20150830T150000
DTSTAMP:20260420T011042
CREATED:20150822T001801Z
LAST-MODIFIED:20150822T001801Z
UID:11865-1440943200-1440946800@pghistory.org
SUMMARY:Susan Pearl: Hot-off-the-press "Prince George's Philharmonic\, 1965 to 2015\, A History."
DESCRIPTION:Susan Pearl will be introducing the hot-off-the-press “Prince George’s Philharmonic\, 1965 to 2015\, A History.” \nRiversdale “Books and Authors” event\, 2:00p.m.\, Sunday\, August 30\,
URL:https://pghistory.org/calendar/susan-pearl-hot-off-the-press-prince-georges-philharmonic-1965-to-2015-a-history/
LOCATION:Riversdale House Museum\, 4811 Riverdale Road \, Riverdale Park\, 20737\, United States
ATTACH;FMTTYPE=image/jpeg:https://pghistory.org/main/wp-content/uploads/2015/08/Riversdale-House-Museum.jpg
END:VEVENT
END:VCALENDAR