BEGIN:VCALENDAR
VERSION:2.0
PRODID:-//Prince George&#039;s County Historical Society - ECPv5.12.4//NONSGML v1.0//EN
CALSCALE:GREGORIAN
METHOD:PUBLISH
X-WR-CALNAME:Prince George&#039;s County Historical Society
X-ORIGINAL-URL:https://pghistory.org
X-WR-CALDESC:Events for Prince George&#039;s County Historical Society
BEGIN:VTIMEZONE
TZID:America/New_York
BEGIN:DAYLIGHT
TZOFFSETFROM:-0500
TZOFFSETTO:-0400
TZNAME:EDT
DTSTART:20150308T070000
END:DAYLIGHT
BEGIN:STANDARD
TZOFFSETFROM:-0400
TZOFFSETTO:-0500
TZNAME:EST
DTSTART:20151101T060000
END:STANDARD
END:VTIMEZONE
BEGIN:VEVENT
DTSTART;TZID=America/New_York:20151105T073000
DTEND;TZID=America/New_York:20151105T203000
DTSTAMP:20260419T211123
CREATED:20151021T002222Z
LAST-MODIFIED:20151021T002222Z
UID:11990-1446708600-1446755400@pghistory.org
SUMMARY:PRINCE GEORGE’S COUNTY\, LIVING on the BORDER - Nathania Branch-Miles\, PGCHS
DESCRIPTION:  \nMARIETTA HOUSE MUSEUM & THE PRINCE GEORGE’S COUNTY HISTORICAL SOCIETY PRESENT: \nAuthor & Lecturer\, Nathania Branch Miles\, will discuss her book\,   “PRINCE GEORGE’S COUNTY\, LIVING on the BORDER”.  Thursday\, November 5\, at 7:30pm. at Marietta House Museum. \nMs. Miles will give a presentation and discuss the research involved in her book\, including her own family history.  Light refreshments will be served\, and guests will have a chance to meet the author after the lecture.  $5/person.  Please call 301-464-5291 for more information and to reserve your space. \nNathania Branch Miles is currently with Howard University\, and is on the Board of the        Afro-American Historical and Genealogical Society. Ms. Miles is a researcher\, lecturer\, and author. \nMarietta is the 1813 home of Judge Gabriel Duvall\, a Supreme Court Justice and Comptroller of the Treasury.  Marietta stands on terraced\, landscaped grounds with two contemporary outbuildings: a brick law office and a stone and brick root cellar/harness storage room.  The grounds boast two County Champion trees and lovely old boxwood.  The family graveyard has been relocated to these serene surroundings. \n  \nMarietta is located at 5626 Bell Station Road\, Glenn Dale\, MD  20769. \nMarietta is a property of the Maryland-National Capital Park and Planning Commission. \n  \n  \n 
URL:https://pghistory.org/calendar/prince-georges-county-living-on-the-border-nathania-branch-miles-pgchs/
LOCATION:Marietta House & Museum\, 5626 Bell Station Road\, Glenn Dale\, MD\, 20769
END:VEVENT
END:VCALENDAR