BEGIN:VCALENDAR
VERSION:2.0
PRODID:-//Prince George&#039;s County Historical Society - ECPv5.12.4//NONSGML v1.0//EN
CALSCALE:GREGORIAN
METHOD:PUBLISH
X-WR-CALNAME:Prince George&#039;s County Historical Society
X-ORIGINAL-URL:https://pghistory.org
X-WR-CALDESC:Events for Prince George&#039;s County Historical Society
BEGIN:VTIMEZONE
TZID:UTC
BEGIN:STANDARD
TZOFFSETFROM:+0000
TZOFFSETTO:+0000
TZNAME:UTC
DTSTART:20160101T000000
END:STANDARD
END:VTIMEZONE
BEGIN:VEVENT
DTSTART;TZID=UTC:20160131T120000
DTEND;TZID=UTC:20160131T140000
DTSTAMP:20260419T181100
CREATED:20160130T035253Z
LAST-MODIFIED:20160130T035253Z
UID:12182-1454241600-1454248800@pghistory.org
SUMMARY:“What Remains: Archaeological Discoveries of African American Life in Prince George’s
DESCRIPTION:Cheryl LaRoche to Keynote opening of \n“What Remains: Archaeological Discoveries of African American Life in Prince George’s County” \n  \nYou are invited to The Maryland-National Capital Park and Planning Commission opening reception for the 2016 celebration of Black History Month. \nDr. LaRoche will have copies of her book\, Free Black Communities and the Underground Railroad: The Geography of Resistance for sale. \n  \nArchaeologist and historian Cheryl Janifer LaRoche\, Ph.D. uses archaeology\, history\, law\, oral history\, as well as geography and material culture to define nineteenth century African American cultural landscapes and their relationship to the Underground Railroad. Her work has taken her across the country\, from New England to the banks of the Mississippi River and beyond. She has physically walked historic landscapes from New Hampshire to Missouri to Canada. Most recently she served as a project historian for the Smithsonian’s newest museum\, the National Museum of African American History and Culture. She has consulted for the National Park Service\, the Harriet Tubman sites\, the African Meeting House in Boston and Nantucket\, the African Burial Ground and several others. \n  \nM-NCPPC’s Program will present an exhibit entitled “What Remains: Archaeological Discoveries of African American Life in Prince George’s County” examining archaeology and aspects of African American life in the County\, including spirituality\, home life\, childhood and consumerism. \n  \nThe exhibit focuses on five sites: Mount Calvert Historical and Archaeological Park\, Apple Hill\, Northampton Slave Quarters and Archaeological Park\, Montpelier Mansion\, and Cherry Hill Cemetery. \n  \nhttp://arts.pgparks.com/page68025.aspx
URL:https://pghistory.org/calendar/what-remains-archaeological-discoveries-of-african-american-life-in-prince-georges/
LOCATION:Harmony Hall Regional Center\, 10701 Livingston Road\, Fort Washington\, MD\, 20744\, United States
END:VEVENT
END:VCALENDAR