BEGIN:VCALENDAR
VERSION:2.0
PRODID:-//Prince George&#039;s County Historical Society - ECPv5.12.4//NONSGML v1.0//EN
CALSCALE:GREGORIAN
METHOD:PUBLISH
X-WR-CALNAME:Prince George&#039;s County Historical Society
X-ORIGINAL-URL:https://pghistory.org
X-WR-CALDESC:Events for Prince George&#039;s County Historical Society
BEGIN:VTIMEZONE
TZID:America/New_York
BEGIN:DAYLIGHT
TZOFFSETFROM:-0500
TZOFFSETTO:-0400
TZNAME:EDT
DTSTART:20160313T070000
END:DAYLIGHT
BEGIN:STANDARD
TZOFFSETFROM:-0400
TZOFFSETTO:-0500
TZNAME:EST
DTSTART:20161106T060000
END:STANDARD
END:VTIMEZONE
BEGIN:VEVENT
DTSTART;TZID=America/New_York:20160206T120000
DTEND;TZID=America/New_York:20160206T130000
DTSTAMP:20260419T165743
CREATED:20160119T213058Z
LAST-MODIFIED:20160119T213058Z
UID:12087-1454760000-1454763600@pghistory.org
SUMMARY:Black History Program - Metal Heads
DESCRIPTION:
URL:https://pghistory.org/calendar/black-history-program-metal-heads-2/
LOCATION:Laurel Library Branch\, 507 7th St\, Laurel\, MD\, 20707\, United States
END:VEVENT
END:VCALENDAR