BEGIN:VCALENDAR
VERSION:2.0
PRODID:-//Prince George&#039;s County Historical Society - ECPv5.12.4//NONSGML v1.0//EN
CALSCALE:GREGORIAN
METHOD:PUBLISH
X-WR-CALNAME:Prince George&#039;s County Historical Society
X-ORIGINAL-URL:https://pghistory.org
X-WR-CALDESC:Events for Prince George&#039;s County Historical Society
BEGIN:VTIMEZONE
TZID:America/New_York
BEGIN:DAYLIGHT
TZOFFSETFROM:-0500
TZOFFSETTO:-0400
TZNAME:EDT
DTSTART:20160313T070000
END:DAYLIGHT
BEGIN:STANDARD
TZOFFSETFROM:-0400
TZOFFSETTO:-0500
TZNAME:EST
DTSTART:20161106T060000
END:STANDARD
END:VTIMEZONE
BEGIN:VEVENT
DTSTART;TZID=America/New_York:20160430T100000
DTEND;TZID=America/New_York:20160430T160000
DTSTAMP:20260419T130023
CREATED:20160119T214713Z
LAST-MODIFIED:20160119T214713Z
UID:12102-1462010400-1462032000@pghistory.org
SUMMARY:Montpelier Festival of Herbs\, Tea and the Arts
DESCRIPTION:
URL:https://pghistory.org/calendar/montpelier-festival-of-herbs-tea-and-the-arts/
LOCATION:Montpelier Mansion\, 9650 Muirkirk Road\, Laurel\, MD\, 20708\, United States
END:VEVENT
BEGIN:VEVENT
DTSTART;TZID=America/New_York:20160430T100000
DTEND;TZID=America/New_York:20160430T170000
DTSTAMP:20260419T130023
CREATED:20160119T220558Z
LAST-MODIFIED:20160119T220558Z
UID:12114-1462010400-1462035600@pghistory.org
SUMMARY:Maryland House & Garden Pilgrimage
DESCRIPTION:
URL:https://pghistory.org/calendar/maryland-house-garden-pilgrimage/
LOCATION:Queen Anne’s County\, MD\, United States
END:VEVENT
BEGIN:VEVENT
DTSTART;TZID=America/New_York:20160430T200000
DTEND;TZID=America/New_York:20160430T220000
DTSTAMP:20260419T130023
CREATED:20160120T231328Z
LAST-MODIFIED:20160120T231328Z
UID:12147-1462046400-1462053600@pghistory.org
SUMMARY:Tavern Night
DESCRIPTION:
URL:https://pghistory.org/calendar/tavern-night/
LOCATION:Riversdale House Museum\, 4811 Riverdale Road \, Riverdale Park\, 20737\, United States
END:VEVENT
END:VCALENDAR