BEGIN:VCALENDAR
VERSION:2.0
PRODID:-//Prince George&#039;s County Historical Society - ECPv5.12.4//NONSGML v1.0//EN
CALSCALE:GREGORIAN
METHOD:PUBLISH
X-WR-CALNAME:Prince George&#039;s County Historical Society
X-ORIGINAL-URL:https://pghistory.org
X-WR-CALDESC:Events for Prince George&#039;s County Historical Society
BEGIN:VTIMEZONE
TZID:America/New_York
BEGIN:DAYLIGHT
TZOFFSETFROM:-0500
TZOFFSETTO:-0400
TZNAME:EDT
DTSTART:20160313T070000
END:DAYLIGHT
BEGIN:STANDARD
TZOFFSETFROM:-0400
TZOFFSETTO:-0500
TZNAME:EST
DTSTART:20161106T060000
END:STANDARD
TZID:UTC
BEGIN:STANDARD
TZOFFSETFROM:+0000
TZOFFSETTO:+0000
TZNAME:UTC
DTSTART:20160101T000000
END:STANDARD
END:VTIMEZONE
BEGIN:VEVENT
DTSTART;TZID=America/New_York:20160515T100000
DTEND;TZID=America/New_York:20160515T170000
DTSTAMP:20260419T130006
CREATED:20160119T220910Z
LAST-MODIFIED:20160119T220910Z
UID:12121-1463306400-1463331600@pghistory.org
SUMMARY:Maryland House & Garden Pilgrimage
DESCRIPTION:
URL:https://pghistory.org/calendar/maryland-house-garden-pilgrimage-4/
LOCATION:Baltimore County\, MD\, United States
END:VEVENT
BEGIN:VEVENT
DTSTART;TZID=America/New_York:20160515T120000
DTEND;TZID=America/New_York:20160515T160000
DTSTAMP:20260419T130006
CREATED:20160120T231644Z
LAST-MODIFIED:20160120T231644Z
UID:12149-1463313600-1463328000@pghistory.org
SUMMARY:African American Family Day
DESCRIPTION:
URL:https://pghistory.org/calendar/african-american-family-day/
LOCATION:Riversdale House Museum\, 4811 Riverdale Road \, Riverdale Park\, 20737\, United States
END:VEVENT
BEGIN:VEVENT
DTSTART;TZID=UTC:20160515T130000
DTEND;TZID=UTC:20160515T170000
DTSTAMP:20260419T130006
CREATED:20160418T161716Z
LAST-MODIFIED:20160418T161716Z
UID:12234-1463317200-1463331600@pghistory.org
SUMMARY:Historic Hyattsville House Tour
DESCRIPTION:
URL:https://pghistory.org/calendar/historic-hyattsville-house-tour/
LOCATION:Hyattsville\, Maryland\, 4310 Gallatin Street \, Hyattsville\, MD\, 20781
END:VEVENT
END:VCALENDAR