BEGIN:VCALENDAR
VERSION:2.0
PRODID:-//Prince George&#039;s County Historical Society - ECPv5.12.4//NONSGML v1.0//EN
CALSCALE:GREGORIAN
METHOD:PUBLISH
X-WR-CALNAME:Prince George&#039;s County Historical Society
X-ORIGINAL-URL:https://pghistory.org
X-WR-CALDESC:Events for Prince George&#039;s County Historical Society
BEGIN:VTIMEZONE
TZID:America/New_York
BEGIN:DAYLIGHT
TZOFFSETFROM:-0500
TZOFFSETTO:-0400
TZNAME:EDT
DTSTART:20160313T070000
END:DAYLIGHT
BEGIN:STANDARD
TZOFFSETFROM:-0400
TZOFFSETTO:-0500
TZNAME:EST
DTSTART:20161106T060000
END:STANDARD
END:VTIMEZONE
BEGIN:VEVENT
DTSTART;TZID=America/New_York:20160517T183000
DTEND;TZID=America/New_York:20160517T210000
DTSTAMP:20260419T125855
CREATED:20160116T214719Z
LAST-MODIFIED:20160116T214719Z
UID:12076-1463509800-1463518800@pghistory.org
SUMMARY:Historic Preservation Commission
DESCRIPTION:
URL:https://pghistory.org/calendar/historic-preservation-commission-5/
LOCATION:County Administration Building\, 14741 Governor Oden Bowie Dr\, Upper Marlboro\, MD\, 20772\, United States
END:VEVENT
END:VCALENDAR