BEGIN:VCALENDAR
VERSION:2.0
PRODID:-//Prince George&#039;s County Historical Society - ECPv5.12.4//NONSGML v1.0//EN
CALSCALE:GREGORIAN
METHOD:PUBLISH
X-WR-CALNAME:Prince George&#039;s County Historical Society
X-ORIGINAL-URL:https://pghistory.org
X-WR-CALDESC:Events for Prince George&#039;s County Historical Society
BEGIN:VTIMEZONE
TZID:UTC
BEGIN:STANDARD
TZOFFSETFROM:+0000
TZOFFSETTO:+0000
TZNAME:UTC
DTSTART:20160101T000000
END:STANDARD
END:VTIMEZONE
BEGIN:VEVENT
DTSTART;TZID=UTC:20160530T080000
DTEND;TZID=UTC:20160530T170000
DTSTAMP:20260419T113744
CREATED:20160530T172615Z
LAST-MODIFIED:20160530T172615Z
UID:12265-1464595200-1464627600@pghistory.org
SUMMARY:Ragtime and Revelry at the Moving Picture Ball!
DESCRIPTION:Join us for a night of film\, music\, and fun Saturday\, June 11th at 6:00 PM at our Second Annual Grand Re-Opening Celebration! \nThe Peacherine Ragtime Society Orchestra will accompany silent film comedy classics\, including Buster Keaton’s Cops.  \nCatering Provided by Jerome and Sons. \nTickets: $50
URL:https://pghistory.org/calendar/ragtime-and-revelry-at-the-moving-picture-ball/
LOCATION:Old Greenbelt Theatre\, 129 Centerway\, Greenbelt\, MD\, 20770\, United States
END:VEVENT
END:VCALENDAR