BEGIN:VCALENDAR
VERSION:2.0
PRODID:-//Prince George&#039;s County Historical Society - ECPv5.12.4//NONSGML v1.0//EN
CALSCALE:GREGORIAN
METHOD:PUBLISH
X-WR-CALNAME:Prince George&#039;s County Historical Society
X-ORIGINAL-URL:https://pghistory.org
X-WR-CALDESC:Events for Prince George&#039;s County Historical Society
BEGIN:VTIMEZONE
TZID:UTC
BEGIN:STANDARD
TZOFFSETFROM:+0000
TZOFFSETTO:+0000
TZNAME:UTC
DTSTART:20160101T000000
END:STANDARD
END:VTIMEZONE
BEGIN:VEVENT
DTSTART;TZID=UTC:20160615T200000
DTEND;TZID=UTC:20160615T220000
DTSTAMP:20260419T113719
CREATED:20160418T162459Z
LAST-MODIFIED:20160418T162459Z
UID:12239-1466020800-1466028000@pghistory.org
SUMMARY:Enough to Live On: The Arts of the WPA film
DESCRIPTION:
URL:https://pghistory.org/calendar/enough-to-live-on-the-arts-of-the-wpa-film/
LOCATION:Old Greenbelt Theatre\, 129 Centerway\, Greenbelt\, MD\, 20770\, United States
END:VEVENT
END:VCALENDAR