BEGIN:VCALENDAR
VERSION:2.0
PRODID:-//Prince George&#039;s County Historical Society - ECPv5.12.4//NONSGML v1.0//EN
CALSCALE:GREGORIAN
METHOD:PUBLISH
X-WR-CALNAME:Prince George&#039;s County Historical Society
X-ORIGINAL-URL:https://pghistory.org
X-WR-CALDESC:Events for Prince George&#039;s County Historical Society
BEGIN:VTIMEZONE
TZID:UTC
BEGIN:STANDARD
TZOFFSETFROM:+0000
TZOFFSETTO:+0000
TZNAME:UTC
DTSTART:20160101T000000
END:STANDARD
TZID:America/New_York
BEGIN:DAYLIGHT
TZOFFSETFROM:-0500
TZOFFSETTO:-0400
TZNAME:EDT
DTSTART:20160313T070000
END:DAYLIGHT
BEGIN:STANDARD
TZOFFSETFROM:-0400
TZOFFSETTO:-0500
TZNAME:EST
DTSTART:20161106T060000
END:STANDARD
END:VTIMEZONE
BEGIN:VEVENT
DTSTART;TZID=UTC:20160806T100000
DTEND;TZID=UTC:20161016T170000
DTSTAMP:20260419T083926
CREATED:20160822T202941Z
LAST-MODIFIED:20160822T202941Z
UID:12314-1470477600-1476637200@pghistory.org
SUMMARY:Mail Call Exhibit
DESCRIPTION:
URL:https://pghistory.org/calendar/mail-call-exhibit/
LOCATION:College Park Aviation Museum\, 1985 Corporal Frank Scott Drive\, College Park\, MD\, 20740
END:VEVENT
BEGIN:VEVENT
DTSTART;TZID=America/New_York:20160813T160000
DTEND;TZID=America/New_York:20160813T170000
DTSTAMP:20260419T083926
CREATED:20160120T223647Z
LAST-MODIFIED:20160120T223647Z
UID:12132-1471104000-1471107600@pghistory.org
SUMMARY:From Belles to Battleaxes: Women of Civil War Richmond
DESCRIPTION:
URL:https://pghistory.org/calendar/from-belles-to-battleaxes-women-of-civil-war-richmond/
LOCATION:Surratt House Museum\, 9118 Brandywine Road\, Clinton\, MD\, 20735\, United States
END:VEVENT
END:VCALENDAR