BEGIN:VCALENDAR
VERSION:2.0
PRODID:-//Prince George&#039;s County Historical Society - ECPv5.12.4//NONSGML v1.0//EN
CALSCALE:GREGORIAN
METHOD:PUBLISH
X-WR-CALNAME:Prince George&#039;s County Historical Society
X-ORIGINAL-URL:https://pghistory.org
X-WR-CALDESC:Events for Prince George&#039;s County Historical Society
BEGIN:VTIMEZONE
TZID:America/New_York
BEGIN:DAYLIGHT
TZOFFSETFROM:-0500
TZOFFSETTO:-0400
TZNAME:EDT
DTSTART:20150308T070000
END:DAYLIGHT
BEGIN:STANDARD
TZOFFSETFROM:-0400
TZOFFSETTO:-0500
TZNAME:EST
DTSTART:20151101T060000
END:STANDARD
END:VTIMEZONE
BEGIN:VEVENT
DTSTART;TZID=America/New_York:20150530T140000
DTEND;TZID=America/New_York:20150530T140000
DTSTAMP:20260422T045806
CREATED:20150517T153559Z
LAST-MODIFIED:20150517T153559Z
UID:11733-1432994400-1432994400@pghistory.org
SUMMARY:Plummer Day Celebration: lecture and reception
DESCRIPTION:  \n  \n  \n  \n  \n  \n  \n  \n  \nAdam Francis Plummer \nPlummer Day to Honor Champion of Faith\, Family and Freedom \nA lecture and reception to honor the remarkable life of Adam Francis Plummer\, whose diary is on display in the Smithsonian Anacostia Community Museum exhibition on his legacy\, will be held at 2:00 p.m. May 30th at \, Bladensburg\, MD 20710. A group of Prince George’s clergy are calling the gathering “Plummer Day\,” in recognition of the fact that Plummer recorded his first diary entry on May 30\, 1841\, the day of his marriage to Emily Saunders. \nRev. Jerome Fowler\, the administrator of St. Paul Baptist Church\, Inc. of Prince George’s County and the great-great grandson of Plummer\, will give the keynote lecture. Also presenting is Ms. Portia James\, the Senior Curator/Cultural Resources Manager of the Anacostia Community Museum\, a Smithsonian museum. \nThe diary is the only known diary of a U.S. slave written in first person while in slavery. The venue for the lecture is the church building that houses the Kingdom Missionary Baptist Church\, pastored by the Reverend Charles W. Dockett. The building was purchased in 1873 and served as the house of worship for the Colored Baptist Church\, founded by Adam Plummer’s daughter\, Sarah Miranda Plummer. The church later was renamed the St. Paul’s Baptist Church\, which met there until 1973\, when the congregation moved to Capitol Heights\, MD. \n“Seen from the standpoint of the sum of his lifetime accomplishments\, three factors seem to be the founts of Adam Plummer’s emotional energy: his faith\, his devotion to family and his freedom.  These virtues also are the three reasons to honor Mr. Plummer on May 30th\, according to event organizers. \nInterested participants can RSVP to plummerday@gmail.com.  For more information on the Exhibition\, “Hand of Freedom: The Life and Legacy of the Plummer Family\,” visit anacostia.si.edu\,\n 
URL:https://pghistory.org/calendar/plummer-day-celebration-lecture-and-reception/
LOCATION:St. Paul Baptist Church\, 4107 47th St.\, Bladensburg\, MD \, 20710
ORGANIZER;CN="Rev.%20Jerome%20Fowler":MAILTO:Plummerday &quot;at&quot; gmail.com
END:VEVENT
END:VCALENDAR