BEGIN:VCALENDAR
VERSION:2.0
PRODID:-//Prince George&#039;s County Historical Society - ECPv5.12.4//NONSGML v1.0//EN
CALSCALE:GREGORIAN
METHOD:PUBLISH
X-WR-CALNAME:Prince George&#039;s County Historical Society
X-ORIGINAL-URL:https://pghistory.org
X-WR-CALDESC:Events for Prince George&#039;s County Historical Society
BEGIN:VTIMEZONE
TZID:UTC
BEGIN:STANDARD
TZOFFSETFROM:+0000
TZOFFSETTO:+0000
TZNAME:UTC
DTSTART:20160101T000000
END:STANDARD
END:VTIMEZONE
BEGIN:VEVENT
DTSTART;TZID=UTC:20160424T123000
DTEND;TZID=UTC:20160424T150000
DTSTAMP:20260421T044744
CREATED:20160109T053153Z
LAST-MODIFIED:20160329T142641Z
UID:12061-1461501000-1461510000@pghistory.org
SUMMARY:St. George's Day - Annual Awards Dinner
DESCRIPTION:This year we will celebrate St. George’s Day at Epiphany Episcopal Church in Forestville.  This is the first time that the Historical Society has visited this lovely historic church\, and it promises to be a very special occasion. \nDinner will be served in Canterbury Hall\, catered by Pineapple Alley of Mount Airy\, and will be followed by our traditional presentation of St. George’s Day awards.  Tours of the church and cemetery will follow our program\, led by a member of the church.  Invitations were sent out last week\, and we hope that you have received yours.  If you have any questions\, call Susan Pearl at 301-262-3367.  We look forward to seeing you on St. George’s Day! \n  \nTickets 50.00
URL:https://pghistory.org/calendar/st-georges-day-annual-awards-brunch/
LOCATION:Epiphany Episcopal Church\, Forestville\, MD\, United States
END:VEVENT
END:VCALENDAR